
BEGIN:VCALENDAR
VERSION:2.0
PRODID:-//Spieghelavonden | Vrienden van de Spieghelkerk - ECPv6.15.20//NONSGML v1.0//EN
CALSCALE:GREGORIAN
METHOD:PUBLISH
X-ORIGINAL-URL:https://spieghelavonden.nl
X-WR-CALDESC:Evenementen voor Spieghelavonden | Vrienden van de Spieghelkerk
REFRESH-INTERVAL;VALUE=DURATION:PT1H
X-Robots-Tag:noindex
X-PUBLISHED-TTL:PT1H
BEGIN:VTIMEZONE
TZID:UTC
BEGIN:STANDARD
TZOFFSETFROM:+0000
TZOFFSETTO:+0000
TZNAME:UTC
DTSTART:20200101T000000
END:STANDARD
END:VTIMEZONE
BEGIN:VEVENT
DTSTART;TZID=UTC:20211007T200000
DTEND;TZID=UTC:20211007T220000
DTSTAMP:20260425T185756
CREATED:20210823T105502Z
LAST-MODIFIED:20250708T095342Z
UID:10000170-1633636800-1633644000@spieghelavonden.nl
SUMMARY:Jan Brokken
DESCRIPTION:´Een goddelijk verteller´ – de Volkskrant\nJan Brokken (1949) is schrijver van romans\, reisverhalen en literaire non-fictie. Hij debuteerde met De provincie en schreef onder andere De regenvogel\, De blinde passagiers\, De droevige kampioen\, Mijn kleine waanzin\, Waarom elf Antillianen knielden voor het hart van Chopin en In het huis van de dichter. Werk van Jan Brokken is in veertien talen uitgebracht\, met groot succes in Duitsland en Italië. Drie van zijn boeken zijn verfilmd\, twee worden dat. Als schrijver heeft hij internationale faam verworven – The New York Times prees Jungle Rudy als een meesterwerk van verhalende non-fictie. Met Baltische zielen schreef hij een baanbrekend en grensverleggend boek\, met De vergelding\, De Kozakkentuin en De rechtvaardigen bewees hij zich opnieuw als een verteller van formaat.
URL:https://spieghelavonden.nl/event/jan-brokken-2/
ATTACH;FMTTYPE=image/jpeg:https://spieghelavonden.nl/wp-content/uploads/2019/11/JdH-20150415-Jan-Brokken-079__AdobeRGB-scaled.jpg
END:VEVENT
BEGIN:VEVENT
DTSTART;TZID=UTC:20211026T200000
DTEND;TZID=UTC:20211026T220000
DTSTAMP:20260425T185756
CREATED:20210823T105633Z
LAST-MODIFIED:20250708T094704Z
UID:10000171-1635278400-1635285600@spieghelavonden.nl
SUMMARY:Annejet van der Zijl
DESCRIPTION:Annejet van der Zijl studeerde in Amsterdam en Londen. Ze werkte als journaliste tien jaar bij het opinieblad HP/De Tijd\, waar ze zich specialiseerde in literaire geschiedschrijving en portretten. In 1998 debuteerde ze met Jagtlust\, over het meest roemruchte artistieke broeinest van Nederland.\nAnna\, de veelgeprezen biografie van Annie M.G. Schmidt\, werd onder andere genomineerd voor De Gouden Uil literatuurprijs. Het boek vormde de basis voor de groots opgezette tv-serie Annie M.G.. Bijzonder succesvol was Van der Zijl met Sonny Boy (2004)\, waarvan meer dan een half miljoen exemplaren werden verkocht en dat eveneens verfilmd werd. In 2010 verscheen haar spraakmakende biografie Bernhard. Een verborgen geschiedenis. Eveneens lovend ontvangen werd haar boek Gerard Heineken. De man\, de stad en het bier\, dat in 2014 verscheen. Van De Amerikaanse prinses\, verschenen in 2015\, werden in tien maanden 150.000 exemplaren verkocht.\nVan der Zijl ontving in 2012 de Gouden Ganzenveer voor haar grote betekenis voor het geschreven en gedrukte woord in Nederland. Voor de boekenweek van 2020 schreef  Van der Zijl het boekenweekgeschenk\, Leon en Juliette\, over Juliette MacCormick en Leon Herckenrath. \n‘Annejet van der Zijl is de ongekroonde koningin van de literaire non-fictie.’ NRC Handelsblad
URL:https://spieghelavonden.nl/event/annejet-van-der-zijl-2/
ATTACH;FMTTYPE=image/jpeg:https://spieghelavonden.nl/wp-content/uploads/2021/08/Annejet-van-der-Zijl-2012.jpeg
LOCATION:https://spieghelavonden.nl/virtual-events
END:VEVENT
END:VCALENDAR