
BEGIN:VCALENDAR
VERSION:2.0
PRODID:-//Spieghelavonden | Vrienden van de Spieghelkerk - ECPv6.15.20//NONSGML v1.0//EN
CALSCALE:GREGORIAN
METHOD:PUBLISH
X-WR-CALNAME:Spieghelavonden | Vrienden van de Spieghelkerk
X-ORIGINAL-URL:https://spieghelavonden.nl
X-WR-CALDESC:Evenementen voor Spieghelavonden | Vrienden van de Spieghelkerk
REFRESH-INTERVAL;VALUE=DURATION:PT1H
X-Robots-Tag:noindex
X-PUBLISHED-TTL:PT1H
BEGIN:VTIMEZONE
TZID:UTC
BEGIN:STANDARD
TZOFFSETFROM:+0000
TZOFFSETTO:+0000
TZNAME:UTC
DTSTART:20200101T000000
END:STANDARD
END:VTIMEZONE
BEGIN:VEVENT
DTSTART;TZID=UTC:20211209T200000
DTEND;TZID=UTC:20211209T220000
DTSTAMP:20260425T165339
CREATED:20210823T105757Z
LAST-MODIFIED:20211130T111932Z
UID:10000173-1639080000-1639087200@spieghelavonden.nl
SUMMARY:Ruben van Zwieten
DESCRIPTION:Ruben van Zwieten is predikant en oprichter van De Nieuwe Poort\, huizen voor ontmoeting en inspiratie op de Zuidas in Amsterdam en aan het Weena in Rotterdam. En van zingevingscentra De Nieuwe Poort Zeeland\, El Nuevo Puerto in Valencia en Le Nouveau Port in Normandië. Verkozen als Young European Leader: 40 talentvolle jongeren in Europa onder de 40 jaar en staat in de Volkskrant Top 200 meest invloedrijke Nederlanders. Lid van het bestuur van de Maatschappelijke Adviesraad van de Vereniging van de Nederlandse Chemische Industrie (VNCI) en van het bestuur van het AUMC alzheimer- en kankercentrum Adore. \nVoormalig lid van de Monitoring Commissie Code Banken en voormalig adviseur van het bestuur van De Goldschmeding Foundation. \nAls ondernemer en predikant tegelijk\, verenigt Ruben in zich twee beroepen die Nederland groot hebben gemaakt: de dominee en de koopman. Die veelzijdigheid wordt gereflecteerd in De Nieuwe Poort met een uitgebreid ‘zingevend’ kunst- en cultuurprogramma\, uitstekende horeca en unieke werkplekken. Rubens initiatief biedt onderdak aan andere social enterprises\, stelt young professionals in de gelegenheid vrijwilligerswerk te doen\, biedt bedrijven ‘fitness voor de geest’-abonnementen en verliest het vieren van het leven niet uit het oog met clubavonden en concerten.
URL:https://spieghelavonden.nl/event/ruben-van-zwieten-9/
ATTACH;FMTTYPE=image/jpeg:https://spieghelavonden.nl/wp-content/uploads/2021/11/Ruben_geannuleerd.jpg
LOCATION:https://spieghelavonden.nl/virtual-events
END:VEVENT
END:VCALENDAR