
BEGIN:VCALENDAR
VERSION:2.0
PRODID:-//Spieghelavonden | Vrienden van de Spieghelkerk - ECPv6.15.20//NONSGML v1.0//EN
CALSCALE:GREGORIAN
METHOD:PUBLISH
X-WR-CALNAME:Spieghelavonden | Vrienden van de Spieghelkerk
X-ORIGINAL-URL:https://spieghelavonden.nl
X-WR-CALDESC:Evenementen voor Spieghelavonden | Vrienden van de Spieghelkerk
REFRESH-INTERVAL;VALUE=DURATION:PT1H
X-Robots-Tag:noindex
X-PUBLISHED-TTL:PT1H
BEGIN:VTIMEZONE
TZID:UTC
BEGIN:STANDARD
TZOFFSETFROM:+0000
TZOFFSETTO:+0000
TZNAME:UTC
DTSTART:20200101T000000
END:STANDARD
END:VTIMEZONE
BEGIN:VEVENT
DTSTART;TZID=UTC:20210622T200000
DTEND;TZID=UTC:20210622T220000
DTSTAMP:20260426T072656
CREATED:20200825T133247Z
LAST-MODIFIED:20210616T092734Z
UID:10000169-1624392000-1624399200@spieghelavonden.nl
SUMMARY:Tommy Wieringa
DESCRIPTION:In 1995 debuteerde Tommy Wieringa (1967) met de roman Dormantique’s manco. Hij brak door met Alles over Tristan (2002)\, bekroond met de Halewijn-prijs en genomineerd voor de AKO Literatuurprijs. De echte doorbraak kwam met zijn volgende roman\, Joe Speedboot. Hij won er de F. Bordewijk prijs mee en het boek werd in meer dan 10 talen vertaald. In 2006 publiceerde hij Ik was ooit in Isfahaan\, een bundel reisverhalen. In 2009 kwam Caesarion uit\, dat op de shortlist stond van de prestigieuze International IMPAC Dublin Literary Award 2013. \nIn 2012 verscheen zijn roman Dit zijn de namen\, dat werd bekroond met de Libris Literatuurprijs en de publieksprijs van de Gouden Boekenuil 2013. The Times Literary Supplement schreef over de roman: ‘Highly intelligent. Tommy Wieringa will make you think and keep you reading eagerly to the final page.’ The Guardian roemde de roman als een ’timeless tale of migration’.\nVoor de Boekenweek 2014 schreef Tommy Wieringa het Boekenweekgeschenk\, getiteld Een mooie jonge vrouw\, waarover The Guardian het volgende noteerde: ‘Je beseft dat je met een waarlijk groot schrijver te maken hebt als je gaandeweg bij geen enkel woord meer vraagtekens zet.’\nIn 2015 verscheen een nieuwe bundel reisverhalen Honorair Kozak\, in 2016 gevolgd door een keuze uit Wieringa’s Europese reisverhalen uit Ik was nooit in Isfahaan en Honorair Kozak onder de titel Vrouwen van de wereld.\nNa Dit zijn de namen vertelt Tommy Wieringa opnieuw een migrantengeschiedenis met De dood van Murat Idrissi (voorjaar 2017). In oktober 2017 verscheen zijn verpletterende roman De heilige Rita over een vader en een zoon\, en over de nieuwe tijd in een traditioneel grensdorp. De heilige Rita is bekroond met de Bookspot Lezers- en Literatuurprijs\, publieksprijs Gouden Boekenuil en de Inktaap.\nIn november 2019 verscheen Totdat het voorbij is\, een keuze van de mooiste verhalen over zijn kinderen.
URL:https://spieghelavonden.nl/event/tommy-wieringa/
LOCATION:Spieghelkerk\, Nieuwe 's Gravelandsweg 34\, Bussum\, Noord Holland\, 1405 HM
ATTACH;FMTTYPE=image/png:https://spieghelavonden.nl/wp-content/uploads/2020/08/Tommy-Wieringa.png
ORGANIZER;CN="Stichting Vrienden van de Spieghelkerk":MAILTO:info@spieghelavonden.nl
GEO:52.2751884;5.1539279
X-APPLE-STRUCTURED-LOCATION;VALUE=URI;X-ADDRESS=Spieghelkerk Nieuwe 's Gravelandsweg 34 Bussum Noord Holland 1405 HM;X-APPLE-RADIUS=500;X-TITLE=Nieuwe 's Gravelandsweg 34:geo:5.1539279,52.2751884
END:VEVENT
END:VCALENDAR