
BEGIN:VCALENDAR
VERSION:2.0
PRODID:-//Spieghelavonden | Vrienden van de Spieghelkerk - ECPv6.15.20//NONSGML v1.0//EN
CALSCALE:GREGORIAN
METHOD:PUBLISH
X-WR-CALNAME:Spieghelavonden | Vrienden van de Spieghelkerk
X-ORIGINAL-URL:https://spieghelavonden.nl
X-WR-CALDESC:Evenementen voor Spieghelavonden | Vrienden van de Spieghelkerk
REFRESH-INTERVAL;VALUE=DURATION:PT1H
X-Robots-Tag:noindex
X-PUBLISHED-TTL:PT1H
BEGIN:VTIMEZONE
TZID:UTC
BEGIN:STANDARD
TZOFFSETFROM:+0000
TZOFFSETTO:+0000
TZNAME:UTC
DTSTART:20160101T000000
END:STANDARD
END:VTIMEZONE
BEGIN:VEVENT
DTSTART;TZID=UTC:20170323T200000
DTEND;TZID=UTC:20170323T223000
DTSTAMP:20260424T163358
CREATED:20180130T081614Z
LAST-MODIFIED:20180130T113800Z
UID:857-1490299200-1490308200@spieghelavonden.nl
SUMMARY:Trio Cortado
DESCRIPTION:Sinds december 2012 vormen Hannah de Witte\, Arthur Klaassens en Jasper Grijpink Trio Cortado. De drie blazers kennen elkaar van hun gezamelijke studietijd aan het Koninklijk Conservatorium in Den Haag. Het trio\, met de ongebruikelijke samenstelling van fluit\, althobo en basklarinet\, viel al snel bij het publiek in de smaak. \nDe unieke bezetting heeft wel als gevolg dat er geen enkel stuk voor deze combinatie van instrumenten was geschreven. Eén oplossing hiervoor is het zelf bewerken van bestaande muziek. Dit geeft het trio de mogelijkheid veel verschillende muziek te spelen. Meesterwerken uit de klassieke tijd (Bach\, Beethoven\, Mozart) worden afgewisseld met recenter repertoire (Ravel\, Debussy\, Honneger en Schumann) en met ‘moderne muziek’ van onder andere Elliot Carter. De arrangementen die Trio Cortado speelt zijn allemaal door de spelers zelf gearrangeerd. \nInmiddels heeft Trio Cortado flink aan de weg getimmerd. Trio Cortado speelde onder meer in de Kleine Zaal van het Concertgebouw. Een aantal stukken van een concert in de zomer van 2013 is uitgezonden op Radio 4\, waar het trio in september 2014 ook live te gast was (bij Opium op 4). In 2013 werd de halve finale bereikt van het Internationale Kamermuziekconcours Almere.
URL:https://spieghelavonden.nl/event/trio-cortado/
LOCATION:Spieghelkerk\, Nieuwe 's Gravelandsweg 34\, Bussum\, Noord Holland\, 1405 HM
ATTACH;FMTTYPE=image/jpeg:https://spieghelavonden.nl/wp-content/uploads/2018/01/Trio-Cortado.jpg
ORGANIZER;CN="Stichting Vrienden van de Spieghelkerk":MAILTO:info@spieghelavonden.nl
GEO:52.2751884;5.1539279
X-APPLE-STRUCTURED-LOCATION;VALUE=URI;X-ADDRESS=Spieghelkerk Nieuwe 's Gravelandsweg 34 Bussum Noord Holland 1405 HM;X-APPLE-RADIUS=500;X-TITLE=Nieuwe 's Gravelandsweg 34:geo:5.1539279,52.2751884
END:VEVENT
END:VCALENDAR