
BEGIN:VCALENDAR
VERSION:2.0
PRODID:-//Spieghelavonden | Vrienden van de Spieghelkerk - ECPv6.15.20//NONSGML v1.0//EN
CALSCALE:GREGORIAN
METHOD:PUBLISH
X-WR-CALNAME:Spieghelavonden | Vrienden van de Spieghelkerk
X-ORIGINAL-URL:https://spieghelavonden.nl
X-WR-CALDESC:Evenementen voor Spieghelavonden | Vrienden van de Spieghelkerk
REFRESH-INTERVAL;VALUE=DURATION:PT1H
X-Robots-Tag:noindex
X-PUBLISHED-TTL:PT1H
BEGIN:VTIMEZONE
TZID:UTC
BEGIN:STANDARD
TZOFFSETFROM:+0000
TZOFFSETTO:+0000
TZNAME:UTC
DTSTART:20160101T000000
END:STANDARD
END:VTIMEZONE
BEGIN:VEVENT
DTSTART;TZID=UTC:20170928T200000
DTEND;TZID=UTC:20170928T223000
DTSTAMP:20260420T125102
CREATED:20180130T080627Z
LAST-MODIFIED:20190118T124404Z
UID:845-1506628800-1506637800@spieghelavonden.nl
SUMMARY:Ronald Giphart
DESCRIPTION:Ronald Giphart (1965) studeerde Nederlands en was jarenlang nachtportier in een Utrechts ziekenhuis. Tijdens dit werk schreef hij zijn debuutroman Ik ook van jou\, die werd bekroond met het Gouden Ezelsoor. Daarna volgden de romans Giph\, Phileine zegt sorry\, Ik omhels je met duizend armen en Troost (genomineerd voor de NS Publieksprijs 2005). In het najaar van 2010 verscheen IJsland. Ook publiceerde hij het literaire fotoboek Heldinnen in samenwerking met fotograaf Eric van den Elsen en schreef hij de culinair-literaire werken Keukenprins en\, in samenwerking met Jonnie Boer\, Eten\, drinken en slapen. Zijn novelle Gala\, het Boekenweekgeschenk van 2003\, verscheen in een oplage van 780.000 exemplaren. Een nieuwe roman van Giphart\, ´Lieve´\, verscheen in september 2016.
URL:https://spieghelavonden.nl/event/ronald-giphart/
LOCATION:Spieghelkerk\, Nieuwe 's Gravelandsweg 34\, Bussum\, Noord Holland\, 1405 HM
ATTACH;FMTTYPE=image/jpeg:https://spieghelavonden.nl/wp-content/uploads/2018/01/Ronald-Giphart.jpg
ORGANIZER;CN="Stichting Vrienden van de Spieghelkerk":MAILTO:info@spieghelavonden.nl
GEO:52.2751884;5.1539279
X-APPLE-STRUCTURED-LOCATION;VALUE=URI;X-ADDRESS=Spieghelkerk Nieuwe 's Gravelandsweg 34 Bussum Noord Holland 1405 HM;X-APPLE-RADIUS=500;X-TITLE=Nieuwe 's Gravelandsweg 34:geo:5.1539279,52.2751884
END:VEVENT
END:VCALENDAR