
BEGIN:VCALENDAR
VERSION:2.0
PRODID:-//Spieghelavonden | Vrienden van de Spieghelkerk - ECPv6.15.20//NONSGML v1.0//EN
CALSCALE:GREGORIAN
METHOD:PUBLISH
X-WR-CALNAME:Spieghelavonden | Vrienden van de Spieghelkerk
X-ORIGINAL-URL:https://spieghelavonden.nl
X-WR-CALDESC:Evenementen voor Spieghelavonden | Vrienden van de Spieghelkerk
REFRESH-INTERVAL;VALUE=DURATION:PT1H
X-Robots-Tag:noindex
X-PUBLISHED-TTL:PT1H
BEGIN:VTIMEZONE
TZID:UTC
BEGIN:STANDARD
TZOFFSETFROM:+0000
TZOFFSETTO:+0000
TZNAME:UTC
DTSTART:20230101T000000
END:STANDARD
END:VTIMEZONE
BEGIN:VEVENT
DTSTART;TZID=UTC:20241217T200000
DTEND;TZID=UTC:20250630T220000
DTSTAMP:20260424T144813
CREATED:20240403T114832Z
LAST-MODIFIED:20250603T043735Z
UID:7847-1734465600-1751320800@spieghelavonden.nl
SUMMARY:Marjoleine de Vos
DESCRIPTION:Marjoleine de Vos  is schrijver\, dichter\, columnist en redacteur kunst bij NRC Handelsblad. \nZe schrijft over kunst\, literatuur en koken\, en heeft een tweewekelijkse column op de opiniepagina. Een selectie uit deze columns werd gebundeld in Nu en altijd: bespiegelingen (2000) en Het is zo vandaag als altijd (2011). Ze schreef tien jaar lang ook een column voor het opinieweekblad VolZin. In 2000 verscheen haar eerste poëziebundel Zeehond graag die werd genomineerd voor de VSB Poëzieprijs 2002. In 2003 volgde Kat van sneeuw\, daarna Het waait (2008)\, Uitzicht genoeg (2013)\, Hoe verschillig (2021) en En steeds is alles er (2023). \nIn 2020 publiceerde ze het wandelessay Je keek te ver. \nDe Vos kreeg in 2023 de Groenman-taalprijs\, onder meer voor haar verzorgde taalgebruik.
URL:https://spieghelavonden.nl/event/marjoleine-de-vos/
ATTACH;FMTTYPE=image/jpeg:https://spieghelavonden.nl/wp-content/uploads/2024/04/Marjoleinde-de-Vos.jpeg
END:VEVENT
END:VCALENDAR